BEGIN:VCALENDAR
VERSION:2.0
PRODID:-//wp-events-plugin.com//7.2.3.1//EN
TZID:Europe/London
X-WR-TIMEZONE:Europe/London
BEGIN:VEVENT
UID:1850@morayroadrunners.com
DTSTART;TZID=Europe/London;VALUE=DATE:20210507
DTEND;TZID=Europe/London;VALUE=DATE:20210510
DTSTAMP:20210220T160055Z
URL:http://morayroadrunners.com/events/10k-challenge-fri-sat-sun-3/
SUMMARY:10k Challenge - Fri/Sat/Sun
DESCRIPTION:
CATEGORIES:Training
END:VEVENT
BEGIN:VTIMEZONE
TZID:Europe/London
X-LIC-LOCATION:Europe/London
BEGIN:DAYLIGHT
DTSTART:20210328T020000
TZOFFSETFROM:+0000
TZOFFSETTO:+0100
TZNAME:BST
END:DAYLIGHT
END:VTIMEZONE
END:VCALENDAR