BEGIN:VCALENDAR
VERSION:2.0
PRODID:-//wp-events-plugin.com//7.2.3.1//EN
TZID:Europe/London
X-WR-TIMEZONE:Europe/London
BEGIN:VEVENT
UID:1848@morayroadrunners.com
DTSTART;TZID=Europe/London;VALUE=DATE:20210326
DTEND;TZID=Europe/London;VALUE=DATE:20210329
DTSTAMP:20210220T160001Z
URL:http://morayroadrunners.com/events/10k-challenge-fri-sat-sun/
SUMMARY:10k Challenge - Fri/Sat/Sun
DESCRIPTION:
CATEGORIES:Training
END:VEVENT
BEGIN:VTIMEZONE
TZID:Europe/London
X-LIC-LOCATION:Europe/London
BEGIN:STANDARD
DTSTART:20201025T010000
TZOFFSETFROM:+0100
TZOFFSETTO:+0000
TZNAME:GMT
END:STANDARD
BEGIN:DAYLIGHT
DTSTART:20210328T020000
TZOFFSETFROM:+0000
TZOFFSETTO:+0100
TZNAME:BST
END:DAYLIGHT
END:VTIMEZONE
END:VCALENDAR