BEGIN:VCALENDAR
VERSION:2.0
PRODID:-//wp-events-plugin.com//7.2.3.1//EN
TZID:Europe/London
X-WR-TIMEZONE:Europe/London
BEGIN:VEVENT
UID:1846@morayroadrunners.com
DTSTART;TZID=Europe/London;VALUE=DATE:20210415
DTEND;TZID=Europe/London;VALUE=DATE:20210416
DTSTAMP:20210220T155756Z
URL:http://morayroadrunners.com/events/20min-easy-10-x-1min-1min-off-20min
 -easy-2/
SUMMARY:20min Easy\, 10 x 1min/1min off\, 20min Easy
DESCRIPTION:
CATEGORIES:Training
END:VEVENT
BEGIN:VTIMEZONE
TZID:Europe/London
X-LIC-LOCATION:Europe/London
BEGIN:DAYLIGHT
DTSTART:20210328T020000
TZOFFSETFROM:+0000
TZOFFSETTO:+0100
TZNAME:BST
END:DAYLIGHT
END:VTIMEZONE
END:VCALENDAR