BEGIN:VCALENDAR
VERSION:2.0
PRODID:-//wp-events-plugin.com//7.2.3.1//EN
TZID:Europe/London
X-WR-TIMEZONE:Europe/London
BEGIN:VEVENT
UID:1845@morayroadrunners.com
DTSTART;TZID=Europe/London;VALUE=DATE:20210325
DTEND;TZID=Europe/London;VALUE=DATE:20210326
DTSTAMP:20210220T155728Z
URL:http://morayroadrunners.com/events/20min-easy-10-x-1min-1min-off-20min
 -easy/
SUMMARY:20min Easy\, 10 x 1min/1min off\, 20min Easy
DESCRIPTION:
CATEGORIES:Training
END:VEVENT
BEGIN:VTIMEZONE
TZID:Europe/London
X-LIC-LOCATION:Europe/London
BEGIN:STANDARD
DTSTART:20201025T010000
TZOFFSETFROM:+0100
TZOFFSETTO:+0000
TZNAME:GMT
END:STANDARD
END:VTIMEZONE
END:VCALENDAR