BEGIN:VCALENDAR
VERSION:2.0
PRODID:-//wp-events-plugin.com//7.2.3.1//EN
TZID:Europe/London
X-WR-TIMEZONE:Europe/London
BEGIN:VEVENT
UID:2578@morayroadrunners.com
DTSTART;TZID=Europe/London:20221106T093000
DTEND;TZID=Europe/London:20221106T170000
DTSTAMP:20220804T134035Z
URL:http://morayroadrunners.com/events/brodie-castle-10km-5/
SUMMARY:Forres Harriers Brodie Castle 10km
DESCRIPTION:Information and Entry
CATEGORIES:Road Running
LOCATION:The Stable Block\, Brodie Castle\, Brodie\, IV36 2TE\, Scotland
GEO:57.59912;-3.711830999999961
X-APPLE-STRUCTURED-LOCATION;VALUE=URI;X-ADDRESS=Brodie Castle\, Brodie\, IV
 36 2TE\, Scotland;X-APPLE-RADIUS=100;X-TITLE=The Stable Block:geo:57.59912
 ,-3.711830999999961
END:VEVENT
BEGIN:VTIMEZONE
TZID:Europe/London
X-LIC-LOCATION:Europe/London
BEGIN:STANDARD
DTSTART:20221030T010000
TZOFFSETFROM:+0100
TZOFFSETTO:+0000
TZNAME:GMT
END:STANDARD
END:VTIMEZONE
END:VCALENDAR