BEGIN:VCALENDAR
VERSION:2.0
PRODID:-//wp-events-plugin.com//7.2.3.1//EN
TZID:Europe/London
X-WR-TIMEZONE:Europe/London
BEGIN:VEVENT
UID:2574@morayroadrunners.com
DTSTART;TZID=Europe/London:20250806T174500
DTEND;TZID=Europe/London:20250806T194500
DTSTAMP:20250709T204652Z
URL:http://morayroadrunners.com/events/califer-hill-viewpoint-challenge/
SUMMARY:Califer Hill Viewpoint Challenge
DESCRIPTION:\nThe race starts in Grant Park and finishes after 3.5 miles (u
 phill!) At Califer Hill Viewpoint\, including the timed 'Killer Mile'. It'
 s a steep mile!!\nThis will be followed by a 'cool down' run back to the p
 ark for the prizegiving and the free Mathers ice cream for all runners.\n\
 n\nThe race starts at 6.30pm and registration is from 5.45pm by Mathers Ca
 fe and swing park. Entry is on the night only and is £2. Please bring the
  correct change. The race is open to anyone from 12 years and up. We reque
 st that any juniors are collected from the carpark beside the finish and d
 riven back to the park to avoid the steep descent on young legs.\n\n\nIt's
  a road race and a hill race with fabulous views\, free ice cream and quir
 ky prizes\, all for £2 so please come along and join in the fun.\n
CATEGORIES:Hill Races
LOCATION:Grant Park\, Victoria Road\, Forres\, Scotland
GEO:57.6138456;-3.6012929999999415
X-APPLE-STRUCTURED-LOCATION;VALUE=URI;X-ADDRESS=Victoria Road\, Forres\, Sc
 otland;X-APPLE-RADIUS=100;X-TITLE=Grant Park:geo:57.6138456,-3.60129299999
 99415
END:VEVENT
BEGIN:VTIMEZONE
TZID:Europe/London
X-LIC-LOCATION:Europe/London
BEGIN:DAYLIGHT
DTSTART:20250330T020000
TZOFFSETFROM:+0000
TZOFFSETTO:+0100
TZNAME:BST
END:DAYLIGHT
END:VTIMEZONE
END:VCALENDAR