BEGIN:VCALENDAR
VERSION:2.0
PRODID:-//wp-events-plugin.com//7.2.3.1//EN
TZID:Europe/London
X-WR-TIMEZONE:Europe/London
BEGIN:VEVENT
UID:2584@morayroadrunners.com
DTSTART;TZID=Europe/London:20220924T100000
DTEND;TZID=Europe/London:20220924T160000
DTSTAMP:20220809T181842Z
URL:http://morayroadrunners.com/events/cioch-mhor-hill-race-4/
SUMMARY:Cioch Mhor Hill Race
DESCRIPTION:Information
CATEGORIES:Hill Races
LOCATION:Dingwall Leisure Centre\, Tulloch Avenue\, Dingwall\, IV15 9LT\, S
 cotland
GEO:57.6028769;-4.429739100000006
X-APPLE-STRUCTURED-LOCATION;VALUE=URI;X-ADDRESS=Tulloch Avenue\, Dingwall\,
  IV15 9LT\, Scotland;X-APPLE-RADIUS=100;X-TITLE=Dingwall Leisure Centre:ge
 o:57.6028769,-4.429739100000006
END:VEVENT
BEGIN:VTIMEZONE
TZID:Europe/London
X-LIC-LOCATION:Europe/London
BEGIN:DAYLIGHT
DTSTART:20220327T020000
TZOFFSETFROM:+0000
TZOFFSETTO:+0100
TZNAME:BST
END:DAYLIGHT
END:VTIMEZONE
END:VCALENDAR