BEGIN:VCALENDAR
VERSION:2.0
PRODID:-//wp-events-plugin.com//7.2.3.1//EN
TZID:Europe/London
X-WR-TIMEZONE:Europe/London
BEGIN:VEVENT
UID:1476@morayroadrunners.com
DTSTART;TZID=Europe/London:20200321T123000
DTEND;TZID=Europe/London:20200321T153000
DTSTAMP:20200301T220346Z
URL:http://morayroadrunners.com/events/craig-dunain-hill-race-5/
SUMMARY:Craig Dunain Hill Race
DESCRIPTION:Information
CATEGORIES:Hill Races
LOCATION:Queens Park Athletic Stadium\, Bught Park\, Inverness\, IV3 5SS\, 
 Scotland
GEO:57.46562359999999;-4.233470000000011
X-APPLE-STRUCTURED-LOCATION;VALUE=URI;X-ADDRESS=Bught Park\, Inverness\, IV
 3 5SS\, Scotland;X-APPLE-RADIUS=100;X-TITLE=Queens Park Athletic Stadium:g
 eo:57.46562359999999,-4.233470000000011
END:VEVENT
BEGIN:VTIMEZONE
TZID:Europe/London
X-LIC-LOCATION:Europe/London
BEGIN:STANDARD
DTSTART:20191027T010000
TZOFFSETFROM:+0100
TZOFFSETTO:+0000
TZNAME:GMT
END:STANDARD
END:VTIMEZONE
END:VCALENDAR