BEGIN:VCALENDAR
VERSION:2.0
PRODID:-//wp-events-plugin.com//7.2.3.1//EN
TZID:Europe/London
X-WR-TIMEZONE:Europe/London
BEGIN:VEVENT
UID:2583@morayroadrunners.com
DTSTART;TZID=Europe/London:20240316T120000
DTEND;TZID=Europe/London:20240316T160000
DTSTAMP:20240126T161002Z
URL:http://morayroadrunners.com/events/craig-dunain-hill-race-6/
SUMMARY:Craig Dunain Hill Race
DESCRIPTION:Information
CATEGORIES:Hill Races
LOCATION:Great Glen House\, Leachkin Road\, Inverness\, Highland\, IV3 8NW\
 , Scotland
X-APPLE-STRUCTURED-LOCATION;VALUE=URI;X-ADDRESS=Leachkin Road\, Inverness\,
  Highland\, IV3 8NW\, Scotland;X-APPLE-RADIUS=100;X-TITLE=Great Glen House
 :geo:0,0
END:VEVENT
BEGIN:VTIMEZONE
TZID:Europe/London
X-LIC-LOCATION:Europe/London
BEGIN:STANDARD
DTSTART:20231029T010000
TZOFFSETFROM:+0100
TZOFFSETTO:+0000
TZNAME:GMT
END:STANDARD
END:VTIMEZONE
END:VCALENDAR