BEGIN:VCALENDAR
VERSION:2.0
PRODID:-//wp-events-plugin.com//7.2.3.1//EN
TZID:Europe/London
X-WR-TIMEZONE:Europe/London
BEGIN:VEVENT
UID:2575@morayroadrunners.com
DTSTART;TZID=Europe/London:20240929T103000
DTEND;TZID=Europe/London:20240929T153000
DTSTAMP:20240706T152809Z
URL:http://morayroadrunners.com/events/crimond-run-fest-4/
SUMMARY:Crimond Run Fest
DESCRIPTION:Information and Entry
CATEGORIES:Road Running
LOCATION:Crimond Village Hall\, Logie Avenue East\, Crimond\, Scotland
GEO:57.6011272;-1.9137133000000404
X-APPLE-STRUCTURED-LOCATION;VALUE=URI;X-ADDRESS=Logie Avenue East\, Crimond
 \, Scotland;X-APPLE-RADIUS=100;X-TITLE=Crimond Village Hall:geo:57.6011272
 ,-1.9137133000000404
END:VEVENT
BEGIN:VTIMEZONE
TZID:Europe/London
X-LIC-LOCATION:Europe/London
BEGIN:DAYLIGHT
DTSTART:20240331T020000
TZOFFSETFROM:+0000
TZOFFSETTO:+0100
TZNAME:BST
END:DAYLIGHT
END:VTIMEZONE
END:VCALENDAR