BEGIN:VCALENDAR
VERSION:2.0
PRODID:-//wp-events-plugin.com//7.2.3.1//EN
TZID:Europe/London
X-WR-TIMEZONE:Europe/London
BEGIN:VEVENT
UID:2567@morayroadrunners.com
DTSTART;TZID=Europe/London;VALUE=DATE:20220703
DTEND;TZID=Europe/London;VALUE=DATE:20220704
DTSTAMP:20220622T152523Z
URL:http://morayroadrunners.com/events/grampian-athletics-league-6/
SUMMARY:Grampian Athletics League
DESCRIPTION:
CATEGORIES:Track and Field
LOCATION:Queens Park Athletic Stadium\, Leisure Centre\, Inverness\, IV3 5S
 S\, Scotland
GEO:57.4630478;-4.240613599999961
X-APPLE-STRUCTURED-LOCATION;VALUE=URI;X-ADDRESS=Leisure Centre\, Inverness\
 , IV3 5SS\, Scotland;X-APPLE-RADIUS=100;X-TITLE=Queens Park Athletic Stadi
 um:geo:57.4630478,-4.240613599999961
END:VEVENT
BEGIN:VTIMEZONE
TZID:Europe/London
X-LIC-LOCATION:Europe/London
BEGIN:DAYLIGHT
DTSTART:20220327T020000
TZOFFSETFROM:+0000
TZOFFSETTO:+0100
TZNAME:BST
END:DAYLIGHT
END:VTIMEZONE
END:VCALENDAR