BEGIN:VCALENDAR
VERSION:2.0
PRODID:-//wp-events-plugin.com//7.2.3.1//EN
TZID:Europe/London
X-WR-TIMEZONE:Europe/London
BEGIN:VEVENT
UID:2596@morayroadrunners.com
DTSTART;TZID=Europe/London;VALUE=DATE:20230610
DTEND;TZID=Europe/London;VALUE=DATE:20230611
DTSTAMP:20220902T205057Z
URL:http://morayroadrunners.com/events/isle-of-skye-half-marathon-fun-run-
 3/
SUMMARY:Isle of Skye Half Marathon & Fun Run
DESCRIPTION:Information
CATEGORIES:Road Running
LOCATION:The Fingal Centre\, Portree\, Highland\, IV51 9ET\, Scotland
GEO:57.4127489;-6.203644800000006
X-APPLE-STRUCTURED-LOCATION;VALUE=URI;X-ADDRESS=Portree\, Highland\, IV51 9
 ET\, Scotland;X-APPLE-RADIUS=100;X-TITLE=The Fingal Centre:geo:57.4127489,
 -6.203644800000006
END:VEVENT
BEGIN:VTIMEZONE
TZID:Europe/London
X-LIC-LOCATION:Europe/London
BEGIN:DAYLIGHT
DTSTART:20230326T020000
TZOFFSETFROM:+0000
TZOFFSETTO:+0100
TZNAME:BST
END:DAYLIGHT
END:VTIMEZONE
END:VCALENDAR