BEGIN:VCALENDAR
VERSION:2.0
PRODID:-//wp-events-plugin.com//7.2.3.1//EN
TZID:Europe/London
X-WR-TIMEZONE:Europe/London
BEGIN:VEVENT
UID:4026@morayroadrunners.com
DTSTART;TZID=Europe/London:20241026T070000
DTEND;TZID=Europe/London:20241026T190000
DTSTAMP:20240924T213448Z
URL:http://morayroadrunners.com/events/jedburgh-three-peaks-ultra-relay/
SUMMARY:Jedburgh Three Peaks ultra & relay
DESCRIPTION:Information and Entry
CATEGORIES:Ultra Running
LOCATION:Lothian Car Park\, Jedburgh\, Jedburgh\, TDB 6JQ\, Scotland
X-APPLE-STRUCTURED-LOCATION;VALUE=URI;X-ADDRESS=Jedburgh\, Jedburgh\, TDB 6
 JQ\, Scotland;X-APPLE-RADIUS=100;X-TITLE=Lothian Car Park:geo:0,0
END:VEVENT
BEGIN:VTIMEZONE
TZID:Europe/London
X-LIC-LOCATION:Europe/London
BEGIN:DAYLIGHT
DTSTART:20240331T020000
TZOFFSETFROM:+0000
TZOFFSETTO:+0100
TZNAME:BST
END:DAYLIGHT
END:VTIMEZONE
END:VCALENDAR