BEGIN:VCALENDAR
VERSION:2.0
PRODID:-//wp-events-plugin.com//7.2.3.1//EN
TZID:Europe/London
X-WR-TIMEZONE:Europe/London
BEGIN:VEVENT
UID:2593@morayroadrunners.com
DTSTART;TZID=Europe/London;VALUE=DATE:20221008
DTEND;TZID=Europe/London;VALUE=DATE:20221009
DTSTAMP:20220828T210337Z
URL:http://morayroadrunners.com/events/lindsays-scottishathletics-north-di
 strict-cross-country-relay-champs/
SUMMARY:Lindsays scottishathletics North District Cross Country Relay Champ
 s
DESCRIPTION:Information
CATEGORIES:Cross Country
LOCATION:Nairn Links Car Park\, Cumming Street\, Nairn\, IV12 4NQ\, Scotlan
 d
X-APPLE-STRUCTURED-LOCATION;VALUE=URI;X-ADDRESS=Cumming Street\, Nairn\, IV
 12 4NQ\, Scotland;X-APPLE-RADIUS=100;X-TITLE=Nairn Links Car Park:geo:0,0
END:VEVENT
BEGIN:VTIMEZONE
TZID:Europe/London
X-LIC-LOCATION:Europe/London
BEGIN:DAYLIGHT
DTSTART:20220327T020000
TZOFFSETFROM:+0000
TZOFFSETTO:+0100
TZNAME:BST
END:DAYLIGHT
END:VTIMEZONE
END:VCALENDAR