BEGIN:VCALENDAR
VERSION:2.0
PRODID:-//wp-events-plugin.com//7.2.3.1//EN
TZID:Europe/London
X-WR-TIMEZONE:Europe/London
BEGIN:VEVENT
UID:2585@morayroadrunners.com
DTSTART;TZID=Europe/London:20250118T120000
DTEND;TZID=Europe/London:20250118T170000
DTSTAMP:20240815T205015Z
URL:http://morayroadrunners.com/events/north-district-cross-country-league
 -nairn-2/
SUMMARY:North District Cross Country League - Nairn
DESCRIPTION:Information
CATEGORIES:Cross Country
LOCATION:Nairn Sailing Club\, The Harbour\, Nairn\, Scotland
GEO:57.589489;-3.862186
X-APPLE-STRUCTURED-LOCATION;VALUE=URI;X-ADDRESS=The Harbour\, Nairn\, Scotl
 and;X-APPLE-RADIUS=100;X-TITLE=Nairn Sailing Club:geo:57.589489,-3.862186
END:VEVENT
BEGIN:VTIMEZONE
TZID:Europe/London
X-LIC-LOCATION:Europe/London
BEGIN:STANDARD
DTSTART:20241027T010000
TZOFFSETFROM:+0100
TZOFFSETTO:+0000
TZNAME:GMT
END:STANDARD
END:VTIMEZONE
END:VCALENDAR