BEGIN:VCALENDAR
VERSION:2.0
PRODID:-//wp-events-plugin.com//7.2.3.1//EN
TZID:Europe/London
X-WR-TIMEZONE:Europe/London
BEGIN:VEVENT
UID:2586@morayroadrunners.com
DTSTART;TZID=Europe/London:20241116T120000
DTEND;TZID=Europe/London:20241116T170000
DTSTAMP:20240815T204648Z
URL:http://morayroadrunners.com/events/north-district-cross-country-league
 -ross-county-ac/
SUMMARY:North District Cross Country League - Ross County AC
DESCRIPTION:Information
CATEGORIES:Cross Country
LOCATION:Evanton Community Woods\, The Diamond Jubilee Hall\, Evanton\, IV1
 6 9YJ\, Scotland
GEO:57.663861;-4.340812000000028
X-APPLE-STRUCTURED-LOCATION;VALUE=URI;X-ADDRESS=The Diamond Jubilee Hall\, 
 Evanton\, IV16 9YJ\, Scotland;X-APPLE-RADIUS=100;X-TITLE=Evanton Community
  Woods:geo:57.663861,-4.340812000000028
END:VEVENT
BEGIN:VTIMEZONE
TZID:Europe/London
X-LIC-LOCATION:Europe/London
BEGIN:STANDARD
DTSTART:20241027T010000
TZOFFSETFROM:+0100
TZOFFSETTO:+0000
TZNAME:GMT
END:STANDARD
END:VTIMEZONE
END:VCALENDAR