BEGIN:VCALENDAR
VERSION:2.0
PRODID:-//wp-events-plugin.com//7.2.3.1//EN
TZID:Europe/London
X-WR-TIMEZONE:Europe/London
BEGIN:VEVENT
UID:1835@morayroadrunners.com
DTSTART;TZID=Europe/London:20210428T180000
DTEND;TZID=Europe/London:20210428T190000
DTSTAMP:20210419T102328Z
URL:http://morayroadrunners.com/events/progression-10min-easy-15min-steady
 -25min-tempo-10min-easy-3/
SUMMARY:Progression - 10min Easy\, 15min Steady\, 25min Tempo\, 10min Easy
DESCRIPTION:
CATEGORIES:Training
LOCATION:Moray Sports Centre\, Linkwood Rd\, Elgin\, IV30 8AR\, Scotland
X-APPLE-STRUCTURED-LOCATION;VALUE=URI;X-ADDRESS=Linkwood Rd\, Elgin\, IV30 
 8AR\, Scotland;X-APPLE-RADIUS=100;X-TITLE=Moray Sports Centre:geo:0,0
END:VEVENT
BEGIN:VTIMEZONE
TZID:Europe/London
X-LIC-LOCATION:Europe/London
BEGIN:DAYLIGHT
DTSTART:20210328T020000
TZOFFSETFROM:+0000
TZOFFSETTO:+0100
TZNAME:BST
END:DAYLIGHT
END:VTIMEZONE
END:VCALENDAR