BEGIN:VCALENDAR
VERSION:2.0
PRODID:-//wp-events-plugin.com//7.2.3.1//EN
TZID:Europe/London
X-WR-TIMEZONE:Europe/London
BEGIN:VEVENT
UID:4027@morayroadrunners.com
DTSTART;TZID=Europe/London:20250511T090000
DTEND;TZID=Europe/London:20250511T160000
DTSTAMP:20241115T224141Z
URL:http://morayroadrunners.com/events/race-to-the-base-trail-half-maratho
 n/
SUMMARY:Race to the Base\, Trail Half Marathon
DESCRIPTION:Information and Entry
CATEGORIES:Trail Running
END:VEVENT
BEGIN:VTIMEZONE
TZID:Europe/London
X-LIC-LOCATION:Europe/London
BEGIN:DAYLIGHT
DTSTART:20250330T020000
TZOFFSETFROM:+0000
TZOFFSETTO:+0100
TZNAME:BST
END:DAYLIGHT
END:VTIMEZONE
END:VCALENDAR