BEGIN:VCALENDAR
VERSION:2.0
PRODID:-//wp-events-plugin.com//7.2.3.1//EN
TZID:Europe/London
X-WR-TIMEZONE:Europe/London
BEGIN:VEVENT
UID:2592@morayroadrunners.com
DTSTART;TZID=Europe/London;VALUE=DATE:20250816
DTEND;TZID=Europe/London;VALUE=DATE:20250817
DTSTAMP:20240829T141948Z
URL:http://morayroadrunners.com/events/speyside-way-ultras-3/
SUMMARY:Speyside Way Ultras
DESCRIPTION:Information
CATEGORIES:Ultra Running
END:VEVENT
BEGIN:VTIMEZONE
TZID:Europe/London
X-LIC-LOCATION:Europe/London
BEGIN:DAYLIGHT
DTSTART:20250330T020000
TZOFFSETFROM:+0000
TZOFFSETTO:+0100
TZNAME:BST
END:DAYLIGHT
END:VTIMEZONE
END:VCALENDAR