BEGIN:VCALENDAR
VERSION:2.0
PRODID:-//wp-events-plugin.com//7.2.3.1//EN
TZID:Europe/London
X-WR-TIMEZONE:Europe/London
BEGIN:VEVENT
UID:2566@morayroadrunners.com
DTSTART;TZID=Europe/London:20220827T100000
DTEND;TZID=Europe/London:20220827T170000
DTSTAMP:20220622T152352Z
URL:http://morayroadrunners.com/events/speyside-windfarm-challenge-5/
SUMMARY:Speyside Windfarm Challenge
DESCRIPTION:Information and Entry
CATEGORIES:Trail Running
LOCATION:Margach Hall\, Knockando\, Aberlour\, AB38 7RX\, Scotland
GEO:57.46804179999999;-3.3607958000000053
X-APPLE-STRUCTURED-LOCATION;VALUE=URI;X-ADDRESS=Knockando\, Aberlour\, AB38
  7RX\, Scotland;X-APPLE-RADIUS=100;X-TITLE=Margach Hall:geo:57.46804179999
 999,-3.3607958000000053
END:VEVENT
BEGIN:VTIMEZONE
TZID:Europe/London
X-LIC-LOCATION:Europe/London
BEGIN:DAYLIGHT
DTSTART:20220327T020000
TZOFFSETFROM:+0000
TZOFFSETTO:+0100
TZNAME:BST
END:DAYLIGHT
END:VTIMEZONE
END:VCALENDAR