BEGIN:VCALENDAR
VERSION:2.0
PRODID:-//wp-events-plugin.com//7.2.3.1//EN
TZID:Europe/London
X-WR-TIMEZONE:Europe/London
BEGIN:VEVENT
UID:2582@morayroadrunners.com
DTSTART;TZID=Europe/London:20220820T121500
DTEND;TZID=Europe/London:20220820T161500
DTSTAMP:20220808T150017Z
URL:http://morayroadrunners.com/events/tap-o-noth-hill-race-3/
SUMMARY:Tap o' Noth Hill Race
DESCRIPTION:Information
CATEGORIES:Hill Races
LOCATION:Rhynie Village Green\, The Square\, Rhynie\, AB54 4EG\, Scotland
GEO:57.3321431;-2.8353541999999834
X-APPLE-STRUCTURED-LOCATION;VALUE=URI;X-ADDRESS=The Square\, Rhynie\, AB54 
 4EG\, Scotland;X-APPLE-RADIUS=100;X-TITLE=Rhynie Village Green:geo:57.3321
 431,-2.8353541999999834
END:VEVENT
BEGIN:VTIMEZONE
TZID:Europe/London
X-LIC-LOCATION:Europe/London
BEGIN:DAYLIGHT
DTSTART:20220327T020000
TZOFFSETFROM:+0000
TZOFFSETTO:+0100
TZNAME:BST
END:DAYLIGHT
END:VTIMEZONE
END:VCALENDAR