BEGIN:VCALENDAR
VERSION:2.0
PRODID:-//wp-events-plugin.com//7.2.3.1//EN
TZID:Europe/London
X-WR-TIMEZONE:Europe/London
BEGIN:VEVENT
UID:1474@morayroadrunners.com
DTSTART;TZID=Europe/London:20201025T090000
DTEND;TZID=Europe/London:20201025T170000
DTSTAMP:20201002T142804Z
URL:http://morayroadrunners.com/events/the-culloden-run-17-46km-10km-4/
SUMMARY:Virtual Culloden Run 17.46km & 10km
DESCRIPTION:Information
CATEGORIES:Road Running
END:VEVENT
BEGIN:VTIMEZONE
TZID:Europe/London
X-LIC-LOCATION:Europe/London
BEGIN:STANDARD
DTSTART:20201025T010000
TZOFFSETFROM:+0100
TZOFFSETTO:+0000
TZNAME:GMT
END:STANDARD
END:VTIMEZONE
END:VCALENDAR