BEGIN:VCALENDAR
VERSION:2.0
PRODID:-//wp-events-plugin.com//7.2.3.1//EN
TZID:Europe/London
X-WR-TIMEZONE:Europe/London
BEGIN:VEVENT
UID:2576@morayroadrunners.com
DTSTART;TZID=Europe/London:20220918T090000
DTEND;TZID=Europe/London:20220918T130000
DTSTAMP:20220719T141728Z
URL:http://morayroadrunners.com/events/the-middleton-trust-fun-runs/
SUMMARY:The Middleton Trust Fun Runs
DESCRIPTION:The annual popular Ellon 10K road race &amp\; 5K race are set t
 o return in 2022.\nThis year also marks the 25th Anniversary of the 3K\, w
 hich we hope will attract a bumper field to help celebrate this milestone!
 \nThe 10K route is around the streets\, along the old railway line\, and f
 ollows the edge of the river Ythan featuring some lovely views of Ellon. I
 t has been described as a runners route and has great potential for some P
 .B. times!\n5k\, 3k &amp\; 600m childrens races are also available which a
 llow us to cater for all running abilities.\nMany prizes to be had in all 
 race categories with team prizes also on offer in the 10K &amp\; 3K events
 .\n\nInfo
CATEGORIES:Road Running
LOCATION:Gordon Park\, Modley Place\, Ellon\, Scotland
X-APPLE-STRUCTURED-LOCATION;VALUE=URI;X-ADDRESS=Modley Place\, Ellon\, Scot
 land;X-APPLE-RADIUS=100;X-TITLE=Gordon Park:geo:0,0
END:VEVENT
BEGIN:VTIMEZONE
TZID:Europe/London
X-LIC-LOCATION:Europe/London
BEGIN:DAYLIGHT
DTSTART:20220327T020000
TZOFFSETFROM:+0000
TZOFFSETTO:+0100
TZNAME:BST
END:DAYLIGHT
END:VTIMEZONE
END:VCALENDAR