BEGIN:VCALENDAR
VERSION:2.0
PRODID:-//wp-events-plugin.com//7.2.3.1//EN
TZID:Europe/London
X-WR-TIMEZONE:Europe/London
BEGIN:VEVENT
UID:2572@morayroadrunners.com
DTSTART;TZID=Europe/London:20240908T130000
DTEND;TZID=Europe/London:20240908T160000
DTSTAMP:20240731T205525Z
URL:http://morayroadrunners.com/events/the-toms-cairn-races-10k-5k-trail-c
 ourses-kids-race-2/
SUMMARY:The Tom's Cairn Races 10k +5k Trail Courses Kid's Race
DESCRIPTION:Information and Entry
CATEGORIES:Trail Running
LOCATION:Finzean Church\, Canmore\, Banchory\, AB31 6PB\, Scotland
X-APPLE-STRUCTURED-LOCATION;VALUE=URI;X-ADDRESS=Canmore\, Banchory\, AB31 6
 PB\, Scotland;X-APPLE-RADIUS=100;X-TITLE=Finzean Church:geo:0,0
END:VEVENT
BEGIN:VTIMEZONE
TZID:Europe/London
X-LIC-LOCATION:Europe/London
BEGIN:DAYLIGHT
DTSTART:20240331T020000
TZOFFSETFROM:+0000
TZOFFSETTO:+0100
TZNAME:BST
END:DAYLIGHT
END:VTIMEZONE
END:VCALENDAR