BEGIN:VCALENDAR
VERSION:2.0
PRODID:-//wp-events-plugin.com//7.2.3.1//EN
TZID:Europe/London
X-WR-TIMEZONE:Europe/London
BEGIN:VEVENT
UID:1748@morayroadrunners.com
DTSTART;TZID=Europe/London;VALUE=DATE:20210119
DTEND;TZID=Europe/London;VALUE=DATE:20210120
DTSTAMP:20210104T162541Z
URL:http://morayroadrunners.com/events/training-16-x-1-min-on-1-min-off/
SUMMARY:Virtual - 16 x 1 min on\, 1 min off
DESCRIPTION:
CATEGORIES:Training
END:VEVENT
BEGIN:VTIMEZONE
TZID:Europe/London
X-LIC-LOCATION:Europe/London
BEGIN:STANDARD
DTSTART:20201025T010000
TZOFFSETFROM:+0100
TZOFFSETTO:+0000
TZNAME:GMT
END:STANDARD
END:VTIMEZONE
END:VCALENDAR