BEGIN:VCALENDAR
VERSION:2.0
PRODID:-//wp-events-plugin.com//7.2.3.1//EN
TZID:Europe/London
X-WR-TIMEZONE:Europe/London
BEGIN:VEVENT
UID:1739@morayroadrunners.com
DTSTART;TZID=Europe/London;VALUE=DATE:20210112
DTEND;TZID=Europe/London;VALUE=DATE:20210113
DTSTAMP:20210109T193858Z
URL:http://morayroadrunners.com/events/training-3-mile-handicap/
SUMMARY:Virtual - 10 min Easy\, 3 Mile Tempo\, 10 min Easy
DESCRIPTION:
CATEGORIES:Training
END:VEVENT
BEGIN:VTIMEZONE
TZID:Europe/London
X-LIC-LOCATION:Europe/London
BEGIN:STANDARD
DTSTART:20201025T010000
TZOFFSETFROM:+0100
TZOFFSETTO:+0000
TZNAME:GMT
END:STANDARD
END:VTIMEZONE
END:VCALENDAR