BEGIN:VCALENDAR
VERSION:2.0
PRODID:-//wp-events-plugin.com//7.2.3.1//EN
TZID:Europe/London
X-WR-TIMEZONE:Europe/London
BEGIN:VEVENT
UID:1670@morayroadrunners.com
DTSTART;TZID=Europe/London:20250103T093000
DTEND;TZID=Europe/London:20250103T103000
DTSTAMP:20241212T143853Z
URL:http://morayroadrunners.com/events/training-carol-and-george-training/
SUMMARY:Training - Carol and George Training - Sand Work
DESCRIPTION:Sand work!\n\n1min out and back x10 (2) (5)rec\n\nThen 6x 30m c
 ave Sandhills
CATEGORIES:Training
LOCATION:Heritage Centre Car Park\, Covesea Lighthouse\, Lossiemouth\, IV31
  6SP\, Scotland
X-APPLE-STRUCTURED-LOCATION;VALUE=URI;X-ADDRESS=Covesea Lighthouse\, Lossie
 mouth\, IV31 6SP\, Scotland;X-APPLE-RADIUS=100;X-TITLE=Heritage Centre Car
  Park:geo:0,0
END:VEVENT
BEGIN:VTIMEZONE
TZID:Europe/London
X-LIC-LOCATION:Europe/London
BEGIN:STANDARD
DTSTART:20241027T010000
TZOFFSETFROM:+0100
TZOFFSETTO:+0000
TZNAME:GMT
END:STANDARD
END:VTIMEZONE
END:VCALENDAR