BEGIN:VCALENDAR
VERSION:2.0
PRODID:-//wp-events-plugin.com//7.2.3.1//EN
TZID:Europe/London
X-WR-TIMEZONE:Europe/London
BEGIN:VEVENT
UID:1758@morayroadrunners.com
DTSTART;TZID=Europe/London;VALUE=DATE:20201226
DTEND;TZID=Europe/London;VALUE=DATE:20201227
DTSTAMP:20201220T162204Z
URL:http://morayroadrunners.com/events/virtual-5km-challenge/
SUMMARY:Virtual 5km Challenge
DESCRIPTION:
CATEGORIES:Training
END:VEVENT
BEGIN:VTIMEZONE
TZID:Europe/London
X-LIC-LOCATION:Europe/London
BEGIN:STANDARD
DTSTART:20201025T010000
TZOFFSETFROM:+0100
TZOFFSETTO:+0000
TZNAME:GMT
END:STANDARD
END:VTIMEZONE
END:VCALENDAR