BEGIN:VCALENDAR
VERSION:2.0
PRODID:-//wp-events-plugin.com//7.2.3.1//EN
TZID:Europe/London
X-WR-TIMEZONE:Europe/London
BEGIN:VEVENT
UID:1831@morayroadrunners.com
DTSTART;TZID=Europe/London;VALUE=DATE:20210406
DTEND;TZID=Europe/London;VALUE=DATE:20210407
DTSTAMP:20210220T152247Z
URL:http://morayroadrunners.com/events/w-u-10-x-30sec-hill-walk-recovery-c
 -d-2/
SUMMARY:W/U\, 10 x 30sec Hill (walk recovery)\, C/D
DESCRIPTION:
CATEGORIES:Training
END:VEVENT
BEGIN:VTIMEZONE
TZID:Europe/London
X-LIC-LOCATION:Europe/London
BEGIN:DAYLIGHT
DTSTART:20210328T020000
TZOFFSETFROM:+0000
TZOFFSETTO:+0100
TZNAME:BST
END:DAYLIGHT
END:VTIMEZONE
END:VCALENDAR