BEGIN:VCALENDAR
VERSION:2.0
PRODID:-//wp-events-plugin.com//7.2.3.1//EN
TZID:Europe/London
X-WR-TIMEZONE:Europe/London
BEGIN:VEVENT
UID:1830@morayroadrunners.com
DTSTART;TZID=Europe/London;VALUE=DATE:20210316
DTEND;TZID=Europe/London;VALUE=DATE:20210317
DTSTAMP:20210220T152209Z
URL:http://morayroadrunners.com/events/w-u-10-x-30sec-hill-walk-recovery-c
 -d/
SUMMARY:W/U\, 10 x 30sec Hill (walk recovery)\, C/D
DESCRIPTION:
CATEGORIES:Training
END:VEVENT
BEGIN:VTIMEZONE
TZID:Europe/London
X-LIC-LOCATION:Europe/London
BEGIN:STANDARD
DTSTART:20201025T010000
TZOFFSETFROM:+0100
TZOFFSETTO:+0000
TZNAME:GMT
END:STANDARD
END:VTIMEZONE
END:VCALENDAR