BEGIN:VCALENDAR
VERSION:2.0
PRODID:-//wp-events-plugin.com//7.2.3.1//EN
TZID:Europe/London
X-WR-TIMEZONE:Europe/London
BEGIN:VEVENT
UID:1822@morayroadrunners.com
DTSTART;TZID=Europe/London;VALUE=DATE:20210330
DTEND;TZID=Europe/London;VALUE=DATE:20210331
DTSTAMP:20210220T151000Z
URL:http://morayroadrunners.com/events/w-u-3-x-3min-2-5min-2min-1-5min-1mi
 n-90-sec-jog-recover-3-min-jog-recover-between-sets-2/
SUMMARY:W/U\, 3 x (3min/2.5min/2min/1.5min/1min) 90 sec jog recover\, 3 min
  jog recover between sets\, C/D
DESCRIPTION:
CATEGORIES:Training
END:VEVENT
BEGIN:VTIMEZONE
TZID:Europe/London
X-LIC-LOCATION:Europe/London
BEGIN:DAYLIGHT
DTSTART:20210328T020000
TZOFFSETFROM:+0000
TZOFFSETTO:+0100
TZNAME:BST
END:DAYLIGHT
END:VTIMEZONE
END:VCALENDAR