BEGIN:VCALENDAR
VERSION:2.0
PRODID:-//wp-events-plugin.com//7.2.3.1//EN
TZID:Europe/London
X-WR-TIMEZONE:Europe/London
BEGIN:VEVENT
UID:1823@morayroadrunners.com
DTSTART;TZID=Europe/London:20210420T180000
DTEND;TZID=Europe/London:20210420T190000
DTSTAMP:20210419T101953Z
URL:http://morayroadrunners.com/events/w-u-3-x-3min-2-5min-2min-1-5min-1mi
 n-90-sec-jog-recover-3-min-jog-recover-between-sets-3/
SUMMARY:W/U\, 3 x (3min/2.5min/2min/1.5min/1min) 90 sec jog recover\, 3 min
  jog recover between sets\, C/D
DESCRIPTION:
CATEGORIES:Training
LOCATION:Moray Sports Centre\, Linkwood Rd\, Elgin\, IV30 8AR\, Scotland
X-APPLE-STRUCTURED-LOCATION;VALUE=URI;X-ADDRESS=Linkwood Rd\, Elgin\, IV30 
 8AR\, Scotland;X-APPLE-RADIUS=100;X-TITLE=Moray Sports Centre:geo:0,0
END:VEVENT
BEGIN:VTIMEZONE
TZID:Europe/London
X-LIC-LOCATION:Europe/London
BEGIN:DAYLIGHT
DTSTART:20210328T020000
TZOFFSETFROM:+0000
TZOFFSETTO:+0100
TZNAME:BST
END:DAYLIGHT
END:VTIMEZONE
END:VCALENDAR