BEGIN:VCALENDAR
VERSION:2.0
PRODID:-//wp-events-plugin.com//7.2.3.1//EN
TZID:Europe/London
X-WR-TIMEZONE:Europe/London
BEGIN:VEVENT
UID:1821@morayroadrunners.com
DTSTART;TZID=Europe/London;VALUE=DATE:20210309
DTEND;TZID=Europe/London;VALUE=DATE:20210310
DTSTAMP:20210220T150946Z
URL:http://morayroadrunners.com/events/w-u-3-x-3min-2-5min-2min-1-5min-1mi
 n-90-sec-jog-recover-3-min-jog-recover-between-sets/
SUMMARY:W/U\, 3 x (3min/2.5min/2min/1.5min/1min) 90 sec jog recover\, 3 min
  jog recover between sets\, C/D
DESCRIPTION:
CATEGORIES:Training
END:VEVENT
BEGIN:VTIMEZONE
TZID:Europe/London
X-LIC-LOCATION:Europe/London
BEGIN:STANDARD
DTSTART:20201025T010000
TZOFFSETFROM:+0100
TZOFFSETTO:+0000
TZNAME:GMT
END:STANDARD
END:VTIMEZONE
END:VCALENDAR