BEGIN:VCALENDAR
VERSION:2.0
PRODID:-//wp-events-plugin.com//7.2.3.1//EN
TZID:Europe/London
X-WR-TIMEZONE:Europe/London
BEGIN:VEVENT
UID:1840@morayroadrunners.com
DTSTART;TZID=Europe/London;VALUE=DATE:20210413
DTEND;TZID=Europe/London;VALUE=DATE:20210414
DTSTAMP:20210220T155301Z
URL:http://morayroadrunners.com/events/w-u-5-x-3min-2min-1min-jog-recover-
 3min-jog-recover-between-sets-c-d-2/
SUMMARY:W/U\, 5 x (3min\, 2min) 1min jog recover\, 3min jog recover between
  sets\, C/D
DESCRIPTION:
CATEGORIES:Training
END:VEVENT
BEGIN:VTIMEZONE
TZID:Europe/London
X-LIC-LOCATION:Europe/London
BEGIN:DAYLIGHT
DTSTART:20210328T020000
TZOFFSETFROM:+0000
TZOFFSETTO:+0100
TZNAME:BST
END:DAYLIGHT
END:VTIMEZONE
END:VCALENDAR