BEGIN:VCALENDAR
VERSION:2.0
PRODID:-//wp-events-plugin.com//7.2.3.1//EN
TZID:Europe/London
X-WR-TIMEZONE:Europe/London
BEGIN:VEVENT
UID:1841@morayroadrunners.com
DTSTART;TZID=Europe/London:20210504T180000
DTEND;TZID=Europe/London:20210504T190000
DTSTAMP:20210419T103109Z
URL:http://morayroadrunners.com/events/w-u-5-x-3min-2min-1min-jog-recover-
 3min-jog-recover-between-sets-c-d-3/
SUMMARY:W/U\, 5 x (3min\, 2min) 1min jog recover\, 3min jog recover between
  sets\, C/D
DESCRIPTION:
CATEGORIES:Training
LOCATION:Moray Sports Centre\, Linkwood Rd\, Elgin\, IV30 8AR\, Scotland
X-APPLE-STRUCTURED-LOCATION;VALUE=URI;X-ADDRESS=Linkwood Rd\, Elgin\, IV30 
 8AR\, Scotland;X-APPLE-RADIUS=100;X-TITLE=Moray Sports Centre:geo:0,0
END:VEVENT
BEGIN:VTIMEZONE
TZID:Europe/London
X-LIC-LOCATION:Europe/London
BEGIN:DAYLIGHT
DTSTART:20210328T020000
TZOFFSETFROM:+0000
TZOFFSETTO:+0100
TZNAME:BST
END:DAYLIGHT
END:VTIMEZONE
END:VCALENDAR