BEGIN:VCALENDAR
VERSION:2.0
PRODID:-//wp-events-plugin.com//7.2.3.1//EN
TZID:Europe/London
X-WR-TIMEZONE:Europe/London
BEGIN:VEVENT
UID:1839@morayroadrunners.com
DTSTART;TZID=Europe/London;VALUE=DATE:20210323
DTEND;TZID=Europe/London;VALUE=DATE:20210324
DTSTAMP:20210220T155237Z
URL:http://morayroadrunners.com/events/w-u-5-x-3min-2min-1min-jog-recover-
 3min-jog-recover-between-sets-c-d/
SUMMARY:W/U\, 5 x (3min\, 2min) 1min jog recover\, 3min jog recover between
  sets\, C/D
DESCRIPTION:
CATEGORIES:Training
END:VEVENT
BEGIN:VTIMEZONE
TZID:Europe/London
X-LIC-LOCATION:Europe/London
BEGIN:STANDARD
DTSTART:20201025T010000
TZOFFSETFROM:+0100
TZOFFSETTO:+0000
TZNAME:GMT
END:STANDARD
END:VTIMEZONE
END:VCALENDAR