BEGIN:VCALENDAR
VERSION:2.0
PRODID:-//wp-events-plugin.com//7.2.3.1//EN
TZID:Europe/London
X-WR-TIMEZONE:Europe/London
BEGIN:VEVENT
UID:1838@morayroadrunners.com
DTSTART;TZID=Europe/London:20210429T180000
DTEND;TZID=Europe/London:20210429T190000
DTSTAMP:20210419T102412Z
URL:http://morayroadrunners.com/events/w-u-6x4min-2min-jog-recover-6x1min-
 1min-jog-recover-c-d-3/
SUMMARY:W/U\, 6x4min (2min jog recover)\, 6x1min (1min jog recover)\, C/D
DESCRIPTION:
CATEGORIES:Training
LOCATION:Moray Leisure Centre\, Borough Briggs Road\, Elgin\, IV30 1AP\, Sc
 otland
GEO:57.65159589999999;-3.322367399999962
X-APPLE-STRUCTURED-LOCATION;VALUE=URI;X-ADDRESS=Borough Briggs Road\, Elgin
 \, IV30 1AP\, Scotland;X-APPLE-RADIUS=100;X-TITLE=Moray Leisure Centre:geo
 :57.65159589999999,-3.322367399999962
END:VEVENT
BEGIN:VTIMEZONE
TZID:Europe/London
X-LIC-LOCATION:Europe/London
BEGIN:DAYLIGHT
DTSTART:20210328T020000
TZOFFSETFROM:+0000
TZOFFSETTO:+0100
TZNAME:BST
END:DAYLIGHT
END:VTIMEZONE
END:VCALENDAR