BEGIN:VCALENDAR
VERSION:2.0
PRODID:-//wp-events-plugin.com//7.2.3.1//EN
TZID:Europe/London
X-WR-TIMEZONE:Europe/London
BEGIN:VEVENT
UID:1246@morayroadrunners.com
DTSTART;TZID=Europe/London:20190706T090000
DTEND;TZID=Europe/London:20190706T090000
DTSTAMP:20190430T175250Z
URL:https://morayroadrunners.com/events/1st-lossie-sports-hub-forest-run/
SUMMARY:1st Lossie Sports Hub Forest Run
DESCRIPTION:Registration opens at 9\n\nRace starts at 10\n\nInformation and
  Entry
CATEGORIES:Trail Running
LOCATION:Lossiemouth Bay Caravan Park\, East Beach\, Lossiemouth\, IV31 6NW
 \, Moray\, Scotland
X-APPLE-STRUCTURED-LOCATION;VALUE=URI;X-ADDRESS=East Beach\, Lossiemouth\, 
 IV31 6NW\, Moray\, Scotland;X-APPLE-RADIUS=100;X-TITLE=Lossiemouth Bay Car
 avan Park:geo:0,0
END:VEVENT
BEGIN:VTIMEZONE
TZID:Europe/London
X-LIC-LOCATION:Europe/London
BEGIN:DAYLIGHT
DTSTART:20190331T020000
TZOFFSETFROM:+0000
TZOFFSETTO:+0100
TZNAME:BST
END:DAYLIGHT
END:VTIMEZONE
END:VCALENDAR