BEGIN:VCALENDAR
VERSION:2.0
PRODID:-//wp-events-plugin.com//7.2.3.1//EN
TZID:Europe/London
X-WR-TIMEZONE:Europe/London
BEGIN:VEVENT
UID:3525@morayroadrunners.com
DTSTART;TZID=Europe/London:20240608T093000
DTEND;TZID=Europe/London:20240608T150000
DTSTAMP:20230716T204618Z
URL:https://morayroadrunners.com/events/40th-anniversary-skye-half-maratho
 n-plus-10k/
SUMMARY:40th Anniversary Skye Half Marathon plus 10k
DESCRIPTION:Information and Entry
CATEGORIES:Road Running
LOCATION:The Fingal Centre\, Portree\, Highland\, IV51 9ET\, Scotland
GEO:57.4127489;-6.203644800000006
X-APPLE-STRUCTURED-LOCATION;VALUE=URI;X-ADDRESS=Portree\, Highland\, IV51 9
 ET\, Scotland;X-APPLE-RADIUS=100;X-TITLE=The Fingal Centre:geo:57.4127489,
 -6.203644800000006
END:VEVENT
BEGIN:VTIMEZONE
TZID:Europe/London
X-LIC-LOCATION:Europe/London
BEGIN:DAYLIGHT
DTSTART:20240331T020000
TZOFFSETFROM:+0000
TZOFFSETTO:+0100
TZNAME:BST
END:DAYLIGHT
END:VTIMEZONE
END:VCALENDAR