BEGIN:VCALENDAR
VERSION:2.0
PRODID:-//wp-events-plugin.com//7.2.3.1//EN
TZID:Europe/London
X-WR-TIMEZONE:Europe/London
BEGIN:VEVENT
UID:3217@morayroadrunners.com
DTSTART;TZID=Europe/London:20260801T110000
DTEND;TZID=Europe/London:20260801T150000
DTSTAMP:20260210T215734Z
URL:https://morayroadrunners.com/events/aberlour-strathspey-highland-games
 -10-mile-trail-race-4/
SUMMARY:Aberlour Strathspey Highland Games 10 Mile Multi Terrain Race
DESCRIPTION:Entry and Information\n\n
CATEGORIES:Trail Running
LOCATION:Alice Littler Memorial Park\, Memorial Park\, Aberlour\, AB38 9QP\
 , Scotland
GEO:57.4706546;-3.228896899999995
X-APPLE-STRUCTURED-LOCATION;VALUE=URI;X-ADDRESS=Memorial Park\, Aberlour\, 
 AB38 9QP\, Scotland;X-APPLE-RADIUS=100;X-TITLE=Alice Littler Memorial Park
 :geo:57.4706546,-3.228896899999995
END:VEVENT
BEGIN:VTIMEZONE
TZID:Europe/London
X-LIC-LOCATION:Europe/London
BEGIN:DAYLIGHT
DTSTART:20260329T020000
TZOFFSETFROM:+0000
TZOFFSETTO:+0100
TZNAME:BST
END:DAYLIGHT
END:VTIMEZONE
END:VCALENDAR