BEGIN:VCALENDAR
VERSION:2.0
PRODID:-//wp-events-plugin.com//7.2.3.1//EN
TZID:Europe/London
X-WR-TIMEZONE:Europe/London
BEGIN:VEVENT
UID:3875@morayroadrunners.com
DTSTART;TZID=Europe/London:20240728T093000
DTEND;TZID=Europe/London:20240728T130000
DTSTAMP:20240603T122439Z
URL:https://morayroadrunners.com/events/alford-10k/
SUMMARY:Alford 10k
DESCRIPTION:Information and Entry
CATEGORIES:Road Running
LOCATION:Grampian Transport Museum\, Montgarrie Road\, Alford\, AB33 8AE\, 
 Scotland
X-APPLE-STRUCTURED-LOCATION;VALUE=URI;X-ADDRESS=Montgarrie Road\, Alford\, 
 AB33 8AE\, Scotland;X-APPLE-RADIUS=100;X-TITLE=Grampian Transport Museum:g
 eo:0,0
END:VEVENT
BEGIN:VTIMEZONE
TZID:Europe/London
X-LIC-LOCATION:Europe/London
BEGIN:DAYLIGHT
DTSTART:20240331T020000
TZOFFSETFROM:+0000
TZOFFSETTO:+0100
TZNAME:BST
END:DAYLIGHT
END:VTIMEZONE
END:VCALENDAR