BEGIN:VCALENDAR
VERSION:2.0
PRODID:-//wp-events-plugin.com//7.2.3.1//EN
TZID:Europe/London
X-WR-TIMEZONE:Europe/London
BEGIN:VEVENT
UID:3692@morayroadrunners.com
DTSTART;TZID=Europe/London:20240929T080000
DTEND;TZID=Europe/London:20240929T170000
DTSTAMP:20231010T211651Z
URL:https://morayroadrunners.com/events/baxters-loch-ness-marathon-3/
SUMMARY:Baxters Loch Ness Marathon
DESCRIPTION:Info and Entry
CATEGORIES:Road Running
END:VEVENT
BEGIN:VTIMEZONE
TZID:Europe/London
X-LIC-LOCATION:Europe/London
BEGIN:DAYLIGHT
DTSTART:20240331T020000
TZOFFSETFROM:+0000
TZOFFSETTO:+0100
TZNAME:BST
END:DAYLIGHT
END:VTIMEZONE
END:VCALENDAR