BEGIN:VCALENDAR
VERSION:2.0
PRODID:-//wp-events-plugin.com//7.2.3.1//EN
TZID:Europe/London
X-WR-TIMEZONE:Europe/London
BEGIN:VEVENT
UID:2188@morayroadrunners.com
DTSTART;TZID=Europe/London:20250928T070000
DTEND;TZID=Europe/London:20250928T160000
DTSTAMP:20240929T154634Z
URL:https://morayroadrunners.com/events/baxters-loch-ness-marathon/
SUMMARY:Baxters Loch Ness Marathon & Festival of Running
DESCRIPTION:Info and Entry
CATEGORIES:Road Running
LOCATION:Bught Park\, Bught Park\, Inverness\, Scotland
GEO:57.46562359999999;-4.233470000000011
X-APPLE-STRUCTURED-LOCATION;VALUE=URI;X-ADDRESS=Bught Park\, Inverness\, Sc
 otland;X-APPLE-RADIUS=100;X-TITLE=Bught Park:geo:57.46562359999999,-4.2334
 70000000011
END:VEVENT
BEGIN:VTIMEZONE
TZID:Europe/London
X-LIC-LOCATION:Europe/London
BEGIN:DAYLIGHT
DTSTART:20250330T020000
TZOFFSETFROM:+0000
TZOFFSETTO:+0100
TZNAME:BST
END:DAYLIGHT
END:VTIMEZONE
END:VCALENDAR