BEGIN:VCALENDAR
VERSION:2.0
PRODID:-//wp-events-plugin.com//7.2.3.1//EN
TZID:Europe/London
X-WR-TIMEZONE:Europe/London
BEGIN:VEVENT
UID:1289@morayroadrunners.com
DTSTART;TZID=Europe/London:20190929T000000
DTEND;TZID=Europe/London:20190929T000000
DTSTAMP:20190828T175603Z
URL:https://morayroadrunners.com/events/bennachie-hill-race-4/
SUMMARY:Bennachie Hill Race
DESCRIPTION:Information
CATEGORIES:Hill Races
LOCATION:Back O'Bennachie\, Bennachie\, Oyne\, AB52 6RH\, Scotland
GEO:57.31689650000001;-2.5601182000000335
X-APPLE-STRUCTURED-LOCATION;VALUE=URI;X-ADDRESS=Bennachie\, Oyne\, AB52 6RH
 \, Scotland;X-APPLE-RADIUS=100;X-TITLE=Back O'Bennachie:geo:57.31689650000
 001,-2.5601182000000335
END:VEVENT
BEGIN:VTIMEZONE
TZID:Europe/London
X-LIC-LOCATION:Europe/London
BEGIN:DAYLIGHT
DTSTART:20190331T020000
TZOFFSETFROM:+0000
TZOFFSETTO:+0100
TZNAME:BST
END:DAYLIGHT
END:VTIMEZONE
END:VCALENDAR