BEGIN:VCALENDAR
VERSION:2.0
PRODID:-//wp-events-plugin.com//7.2.3.1//EN
TZID:Europe/London
X-WR-TIMEZONE:Europe/London
BEGIN:VEVENT
UID:3200@morayroadrunners.com
DTSTART;TZID=Europe/London:20251011T060000
DTEND;TZID=Europe/London:20251011T150000
DTSTAMP:20241106T215647Z
URL:https://morayroadrunners.com/events/bennachie-ultra-marathon-2/
SUMMARY:Bennachie Ultra Marathon
DESCRIPTION:Information and Entry
CATEGORIES:Ultra Running
LOCATION:The Bennachie Visitor Centre\, Pitcaple\, Inverurie\, AB51 5HY\, S
 cotland
X-APPLE-STRUCTURED-LOCATION;VALUE=URI;X-ADDRESS=Pitcaple\, Inverurie\, AB51
  5HY\, Scotland;X-APPLE-RADIUS=100;X-TITLE=The Bennachie Visitor Centre:ge
 o:0,0
END:VEVENT
BEGIN:VTIMEZONE
TZID:Europe/London
X-LIC-LOCATION:Europe/London
BEGIN:DAYLIGHT
DTSTART:20250330T020000
TZOFFSETFROM:+0000
TZOFFSETTO:+0100
TZNAME:BST
END:DAYLIGHT
END:VTIMEZONE
END:VCALENDAR