BEGIN:VCALENDAR
VERSION:2.0
PRODID:-//wp-events-plugin.com//7.2.3.1//EN
TZID:Europe/London
X-WR-TIMEZONE:Europe/London
BEGIN:VEVENT
UID:1978@morayroadrunners.com
DTSTART;TZID=Europe/London;VALUE=DATE:20211009
DTEND;TZID=Europe/London;VALUE=DATE:20211010
DTSTAMP:20210619T165910Z
URL:https://morayroadrunners.com/events/bennachie-ultra/
SUMMARY:Bennachie Ultra
DESCRIPTION:Information and Entry
CATEGORIES:Trail Running
END:VEVENT
BEGIN:VTIMEZONE
TZID:Europe/London
X-LIC-LOCATION:Europe/London
BEGIN:DAYLIGHT
DTSTART:20210328T020000
TZOFFSETFROM:+0000
TZOFFSETTO:+0100
TZNAME:BST
END:DAYLIGHT
END:VTIMEZONE
END:VCALENDAR