BEGIN:VCALENDAR
VERSION:2.0
PRODID:-//wp-events-plugin.com//7.2.3.1//EN
TZID:Europe/London
X-WR-TIMEZONE:Europe/London
BEGIN:VEVENT
UID:3204@morayroadrunners.com
DTSTART;TZID=Europe/London:20260506T180000
DTEND;TZID=Europe/London:20260506T200000
DTSTAMP:20260324T141231Z
URL:https://morayroadrunners.com/events/birkenhill-woods-new-venue/
SUMMARY:Birkenhill Woods Forest Run
DESCRIPTION:\n\nScreenshot&nbsp\;\n\n&nbsp\;
CATEGORIES:Trail Running
LOCATION:Moray Sports Centre\, Linkwood Rd\, Elgin\, IV30 8AR\, Scotland
X-APPLE-STRUCTURED-LOCATION;VALUE=URI;X-ADDRESS=Linkwood Rd\, Elgin\, IV30 
 8AR\, Scotland;X-APPLE-RADIUS=100;X-TITLE=Moray Sports Centre:geo:0,0
END:VEVENT
BEGIN:VTIMEZONE
TZID:Europe/London
X-LIC-LOCATION:Europe/London
BEGIN:DAYLIGHT
DTSTART:20260329T020000
TZOFFSETFROM:+0000
TZOFFSETTO:+0100
TZNAME:BST
END:DAYLIGHT
END:VTIMEZONE
END:VCALENDAR