BEGIN:VCALENDAR
VERSION:2.0
PRODID:-//wp-events-plugin.com//7.2.3.1//EN
TZID:Europe/London
X-WR-TIMEZONE:Europe/London
BEGIN:VEVENT
UID:1465@morayroadrunners.com
DTSTART;TZID=Europe/London:20200412T000000
DTEND;TZID=Europe/London:20200412T000000
DTSTAMP:20200317T220835Z
URL:https://morayroadrunners.com/events/buckie-10k-junior-run/
SUMMARY:Buckie 10K & Junior Run
DESCRIPTION:CANCELLED\nEntry and Information
CATEGORIES:Road Running
LOCATION:Buckie High School\, West Cathcart Street\, Buckie\, AB56 1QB\, Sc
 otland
GEO:57.67337509999999;-2.971149700000069
X-APPLE-STRUCTURED-LOCATION;VALUE=URI;X-ADDRESS=West Cathcart Street\, Buck
 ie\, AB56 1QB\, Scotland;X-APPLE-RADIUS=100;X-TITLE=Buckie High School:geo
 :57.67337509999999,-2.971149700000069
END:VEVENT
BEGIN:VTIMEZONE
TZID:Europe/London
X-LIC-LOCATION:Europe/London
BEGIN:DAYLIGHT
DTSTART:20200329T020000
TZOFFSETFROM:+0000
TZOFFSETTO:+0100
TZNAME:BST
END:DAYLIGHT
END:VTIMEZONE
END:VCALENDAR