BEGIN:VCALENDAR
VERSION:2.0
PRODID:-//wp-events-plugin.com//7.2.3.1//EN
TZID:Europe/London
X-WR-TIMEZONE:Europe/London
BEGIN:VEVENT
UID:1200@morayroadrunners.com
DTSTART;TZID=Europe/London:20190414T120000
DTEND;TZID=Europe/London:20190414T170000
DTSTAMP:20190221T222104Z
URL:https://morayroadrunners.com/events/buckie-10km-junior-race-part-of-th
 e-northern-scot-series-2/
SUMMARY:Buckie 10km & Junior Race - Part of The Northern Scot Series
DESCRIPTION:Information and Entry
CATEGORIES:Road Running
LOCATION:Buckie High School\, West Cathcart Street\, Buckie\, AB56 1QB\, Sc
 otland
GEO:57.67337509999999;-2.971149700000069
X-APPLE-STRUCTURED-LOCATION;VALUE=URI;X-ADDRESS=West Cathcart Street\, Buck
 ie\, AB56 1QB\, Scotland;X-APPLE-RADIUS=100;X-TITLE=Buckie High School:geo
 :57.67337509999999,-2.971149700000069
END:VEVENT
BEGIN:VTIMEZONE
TZID:Europe/London
X-LIC-LOCATION:Europe/London
BEGIN:DAYLIGHT
DTSTART:20190331T020000
TZOFFSETFROM:+0000
TZOFFSETTO:+0100
TZNAME:BST
END:DAYLIGHT
END:VTIMEZONE
END:VCALENDAR