BEGIN:VCALENDAR
VERSION:2.0
PRODID:-//wp-events-plugin.com//7.2.3.1//EN
TZID:Europe/London
X-WR-TIMEZONE:Europe/London
BEGIN:VEVENT
UID:1381@morayroadrunners.com
DTSTART;TZID=Europe/London:20200101T110000
DTEND;TZID=Europe/London:20200101T123000
DTSTAMP:20191106T125456Z
URL:https://morayroadrunners.com/events/buckie-sair-heidi-fun-run-new-year
 s-day-3/
SUMMARY:Buckie Sair Heidi Fun Run New Year's Day
DESCRIPTION:Come along and kick start your January detox with the annual Sa
 ir Heedie run!\nWhen: New Years Day 11am start for runners\, 10.30am start
  for walkers\, registration from 10.15am.\nWhere: start and finish outside
  the Episcopal Hall.\nWhat: Run 4.5 miles\, part of Buckie 10k route in re
 verse.\nCost: £5 entry fee\, all proceeds will be donated to the new Buck
 ie Food Bank.\nRaffle (any raffle donations gratefully received)\nEnjoy a 
 cup of tea and a piece when you finish.\nAge 16+ only due to the run being
  on open roads.\nCome along and blow away those Sair Heids!!! See you all 
 there!
CATEGORIES:Road Running
LOCATION:Episcopal Church Hall\, West Church Street\, Buckie\, Scotland
GEO:57.67441949999999;-2.9718496000000414
X-APPLE-STRUCTURED-LOCATION;VALUE=URI;X-ADDRESS=West Church Street\, Buckie
 \, Scotland;X-APPLE-RADIUS=100;X-TITLE=Episcopal Church Hall:geo:57.674419
 49999999,-2.9718496000000414
END:VEVENT
BEGIN:VTIMEZONE
TZID:Europe/London
X-LIC-LOCATION:Europe/London
BEGIN:STANDARD
DTSTART:20191027T010000
TZOFFSETFROM:+0100
TZOFFSETTO:+0000
TZNAME:GMT
END:STANDARD
END:VTIMEZONE
END:VCALENDAR